BEGIN:VCALENDAR
VERSION:2.0
PRODID:-//The Small Farm Training Group - ECPv6.15.20//NONSGML v1.0//EN
CALSCALE:GREGORIAN
METHOD:PUBLISH
X-ORIGINAL-URL:https://sftg.org.uk
X-WR-CALDESC:Events for The Small Farm Training Group
REFRESH-INTERVAL;VALUE=DURATION:PT1H
X-Robots-Tag:noindex
X-PUBLISHED-TTL:PT1H
BEGIN:VTIMEZONE
TZID:Europe/London
BEGIN:DAYLIGHT
TZOFFSETFROM:+0000
TZOFFSETTO:+0100
TZNAME:BST
DTSTART:20210328T010000
END:DAYLIGHT
BEGIN:STANDARD
TZOFFSETFROM:+0100
TZOFFSETTO:+0000
TZNAME:GMT
DTSTART:20211031T010000
END:STANDARD
BEGIN:DAYLIGHT
TZOFFSETFROM:+0000
TZOFFSETTO:+0100
TZNAME:BST
DTSTART:20220327T010000
END:DAYLIGHT
BEGIN:STANDARD
TZOFFSETFROM:+0100
TZOFFSETTO:+0000
TZNAME:GMT
DTSTART:20221030T010000
END:STANDARD
BEGIN:DAYLIGHT
TZOFFSETFROM:+0000
TZOFFSETTO:+0100
TZNAME:BST
DTSTART:20230326T010000
END:DAYLIGHT
BEGIN:STANDARD
TZOFFSETFROM:+0100
TZOFFSETTO:+0000
TZNAME:GMT
DTSTART:20231029T010000
END:STANDARD
END:VTIMEZONE
BEGIN:VEVENT
DTSTART;TZID=Europe/London:20220610T080000
DTEND;TZID=Europe/London:20220612T171500
DTSTAMP:20260420T104515
CREATED:20231026T100649Z
LAST-MODIFIED:20231026T100649Z
UID:10000039-1654848000-1655054100@sftg.org.uk
SUMMARY:South of England Show 2022 - Members Meet Up & Volunteer
DESCRIPTION:Can we beat the 2021 South of England show? ......... Come and meet your fellow members and your SFTG committee during the 3 day South of England Show 2022. If you are showing your animals\, selling your goods\, or just coming along to see what's new in 2022\, this is without doubt the place to come if you are interested in  smallholding\, rural life\, or country pursuits in the South East of England with over 150 acres dedicated to all things rural.\nWe would love you to come and say hello\, use the SFTG stand as your central base\, and no doubt we will have some tea and coffee on hand and some chairs to rest your legs. We had a very successful 2021 at the South of England Show\, recruiting a record breaking 19 new members over the 3 days period. Paul and his team of volunteers promoted the group tirelessly\, and we all had a thoroughly fabulous event. \nFancy helping out? - We really appreciate having some some extra help on any of the event days\, where we not just create a base for members to meet and mingle\, but we also try and recruit new members to join the Small Farm Training Group. Who better to say how great we are\, than the current members themselves! If you are going to the show and would be happy to come to the stand for an hour or so\, we would be really\, really grateful! All you need is the ability to smile\, hand out a leaflet\, and answer any questions prospective members may have\, essentially\, spread the Small Farm Training Group love. \nHappy to lend a hand?  Please  email Paul Lovatt Smith who is kindly taking responsibility for our SFTG stand at all the agricultural shows this year.
URL:https://sftg.org.uk/event/south-of-england-show-2022-members-meet-up-volunteer/
END:VEVENT
BEGIN:VEVENT
DTSTART;TZID=Europe/London:20220610T090000
DTEND;TZID=Europe/London:20220612T180000
DTSTAMP:20260420T104515
CREATED:20231026T100708Z
LAST-MODIFIED:20231026T100708Z
UID:10000040-1654851600-1655056800@sftg.org.uk
SUMMARY:South of England Show 2022
DESCRIPTION:This is the largest and most popular agricultural show in the south-east of England.  There is lots to see for everyone - some come to find out more about agriculture\, many just come for the shopping experience! It's a fun day out with lots of animals in the show ring and many events taking place.  The SFTG has a stand to promote smallholding and to inform the public about our group.  We usually get some new members join at the event.\nWe will need volunteers to help with this event.  You don't have to be an expert in smallholding but you should like talking to people and telling them what a wonderful group we are!  It's easy because we have lots of pictures of events that we have run and information sheets for people who need more details about a topic. There are usually 2 or 3 people on the stand at anyone time so usually if you don't know the answer to a question someone else does!\nInterested? Please  email Paul Lovatt Smith for more information.
URL:https://sftg.org.uk/event/south-of-england-show-2022/
END:VEVENT
END:VCALENDAR