BEGIN:VCALENDAR
VERSION:2.0
PRODID:-//The Small Farm Training Group - ECPv6.15.20//NONSGML v1.0//EN
CALSCALE:GREGORIAN
METHOD:PUBLISH
X-ORIGINAL-URL:https://sftg.org.uk
X-WR-CALDESC:Events for The Small Farm Training Group
REFRESH-INTERVAL;VALUE=DURATION:PT1H
X-Robots-Tag:noindex
X-PUBLISHED-TTL:PT1H
BEGIN:VTIMEZONE
TZID:Europe/London
BEGIN:DAYLIGHT
TZOFFSETFROM:+0000
TZOFFSETTO:+0100
TZNAME:BST
DTSTART:20210328T010000
END:DAYLIGHT
BEGIN:STANDARD
TZOFFSETFROM:+0100
TZOFFSETTO:+0000
TZNAME:GMT
DTSTART:20211031T010000
END:STANDARD
BEGIN:DAYLIGHT
TZOFFSETFROM:+0000
TZOFFSETTO:+0100
TZNAME:BST
DTSTART:20220327T010000
END:DAYLIGHT
BEGIN:STANDARD
TZOFFSETFROM:+0100
TZOFFSETTO:+0000
TZNAME:GMT
DTSTART:20221030T010000
END:STANDARD
BEGIN:DAYLIGHT
TZOFFSETFROM:+0000
TZOFFSETTO:+0100
TZNAME:BST
DTSTART:20230326T010000
END:DAYLIGHT
BEGIN:STANDARD
TZOFFSETFROM:+0100
TZOFFSETTO:+0000
TZNAME:GMT
DTSTART:20231029T010000
END:STANDARD
END:VTIMEZONE
BEGIN:VEVENT
DTSTART;TZID=Europe/London:20220218T193000
DTEND;TZID=Europe/London:20220218T213000
DTSTAMP:20260420T104512
CREATED:20231026T100345Z
LAST-MODIFIED:20231026T100345Z
UID:10000009-1645212600-1645219800@sftg.org.uk
SUMMARY:FREE TALK:  Wildlife and Farming - The Next Decade
DESCRIPTION:Our speaker\, Martin Hole\, farms at Montague on the wetlands of the Pevensey Levels in East Sussex. Part family-owned and part rented\, the 300ha (740acres) organic enterprise provides a home to about 150 cattle and nearly 2\,000 head of sheep\, with a small diversification into residential property and a fledgling green tourism business.\nMontague is also home to 216 species of birds and 120 of flies as well as thousands of wild flowers. A long-standing relationship with Natural England has yielded a partially enwilded landscape with many developing habitats. \nA former RSPB UK Lapwing Champion\, Martin remains fascinated by the provision of wilderness whilst trying to keep the farm intact for his three daughters\, this is a fascinating talk detailing how he does and it's throughly enjoyable.  \n \nFriday 18th February at the Goward Hall\, Cade Street\, Heathfield TN21 9BU. Click here for directions. \nDoors open at 7.30 for refreshments and chit-chat; talk starts at 8 pm and finishes at 9 pm or shortly thereafter.\nThe Half Moon pub opposite the hall is happy to supply ‘take-out’ drinks. \nThis is event is FREE and NON-MEMBERS WELCOME. Booking is not essential but it is helpful if you book your place so that we can ensure there are enough refreshments\, and that we can get in touch should the event be cancelled due to speaker illness or other unforeseen circumstances.
URL:https://sftg.org.uk/event/free-talk-wildlife-and-farming-the-next-decade/
CATEGORIES:SFTG Training Courses
END:VEVENT
END:VCALENDAR